BEGIN:VCALENDAR
VERSION:2.0
PRODID:-//wp-events-plugin.com//6.6.4.4//EN
TZID:America/Los_Angeles
X-WR-TIMEZONE:America/Los_Angeles
BEGIN:VEVENT
UID:323@sdfolkheritage.org
DTSTART:20260516T193000Z
DTEND:20260516T213000Z
DTSTAMP:20260318T223237Z
URL:https://sdfolkheritage.org/events/honoring-peggy-watson-featuring-davi
 d-beldock/
SUMMARY:Honoring Peggy Watson (featuring David Beldock)
DESCRIPTION:Local acoustic duo Peggy Watson and David Beldock (Sat.\, Carls
 bad\, $20)
ATTACH;FMTTYPE=image/jpeg:/wp-content/uploads/2026/03/Beldock-and-Watson.w
 ebp
LOCATION:Pilgrim United Church of Christ\, 2020 Chestnut Ave.\, Carlsbad\, 
 CA\, 92008\, United States
GEO:33.162163;-117.326303
X-APPLE-STRUCTURED-LOCATION;VALUE=URI;X-ADDRESS=2020 Chestnut Ave.\, Carlsb
 ad\, CA\, 92008\, United States;X-APPLE-RADIUS=100;X-TITLE=Pilgrim United 
 Church of Christ:geo:33.162163,-117.326303
END:VEVENT
END:VCALENDAR