BEGIN:VCALENDAR
VERSION:2.0
PRODID:-//wp-events-plugin.com//6.6.4.4//EN
TZID:America/Los_Angeles
X-WR-TIMEZONE:America/Los_Angeles
BEGIN:VEVENT
UID:326@sdfolkheritage.org
DTSTART:20260725T193000Z
DTEND:20260725T213000Z
DTSTAMP:20260318T224542Z
URL:https://sdfolkheritage.org/events/iconic-singer-songwriter-james-lee-s
 tanley/
SUMMARY:Iconic singer-songwriter James Lee Stanley
DESCRIPTION:Iconic singer-songwriter James Lee Stanley spends his 80th birt
 hday performing for us! (Sat. Carlsbad\, $25)
ATTACH;FMTTYPE=image/jpeg:/wp-content/uploads/2026/03/James-Lee-Stanley.jp
 eg
LOCATION:Pilgrim United Church of Christ\, 2020 Chestnut Ave.\, Carlsbad\, 
 CA\, 92008\, United States
GEO:33.162163;-117.326303
X-APPLE-STRUCTURED-LOCATION;VALUE=URI;X-ADDRESS=2020 Chestnut Ave.\, Carlsb
 ad\, CA\, 92008\, United States;X-APPLE-RADIUS=100;X-TITLE=Pilgrim United 
 Church of Christ:geo:33.162163,-117.326303
END:VEVENT
END:VCALENDAR