BEGIN:VCALENDAR
VERSION:2.0
PRODID:-//wp-events-plugin.com//6.6.4.4//EN
TZID:America/Los_Angeles
X-WR-TIMEZONE:America/Los_Angeles
BEGIN:VEVENT
UID:324@sdfolkheritage.org
DTSTART:20260606T100000Z
DTEND:20260606T160000Z
DTSTAMP:20260318T221924Z
URL:https://sdfolkheritage.org/events/sam-hinton-folk-heritage-festival-fr
 ee/
SUMMARY:Sam Hinton Folk Heritage Festival - FREE
DESCRIPTION:All day fun in the park\, with concerts\, jams\, stories\, danc
 ing\, food\, trains\, and more! (Sat.\, Poway\, FREE)
ATTACH;FMTTYPE=image/jpeg:/wp-content/uploads/2025/06/Sam-Hinton.jpg
LOCATION:Templars Hall\, 14134 Midland RD\, Poway\, CA\, 92064\, United Sta
 tes
X-APPLE-STRUCTURED-LOCATION;VALUE=URI;X-ADDRESS=14134 Midland RD\, Poway\, 
 CA\, 92064\, United States;X-APPLE-RADIUS=100;X-TITLE=Templars Hall:geo:0,
 0
END:VEVENT
END:VCALENDAR