BEGIN:VCALENDAR
VERSION:2.0
PRODID:-//wp-events-plugin.com//6.6.4.4//EN
TZID:America/Los_Angeles
X-WR-TIMEZONE:America/Los_Angeles
BEGIN:VEVENT
UID:325@sdfolkheritage.org
DTSTART:20260613T193000Z
DTEND:20260613T213000Z
DTSTAMP:20260318T223315Z
URL:https://sdfolkheritage.org/events/sister-string-duo-natalie-and-britta
 ny-haas/
SUMMARY:Sister string duo Natalie and Brittany Haas
DESCRIPTION:Sister string virtuosos Brittany (fiddle) and Natalie (cello) H
 aas (Sat. Carlsbad\, $25)
ATTACH;FMTTYPE=image/jpeg:/wp-content/uploads/2026/03/Haas-sisters.jpeg
LOCATION:Pilgrim United Church of Christ\, 2020 Chestnut Ave.\, Carlsbad\, 
 CA\, 92008\, United States
GEO:33.162163;-117.326303
X-APPLE-STRUCTURED-LOCATION;VALUE=URI;X-ADDRESS=2020 Chestnut Ave.\, Carlsb
 ad\, CA\, 92008\, United States;X-APPLE-RADIUS=100;X-TITLE=Pilgrim United 
 Church of Christ:geo:33.162163,-117.326303
END:VEVENT
END:VCALENDAR