BEGIN:VCALENDAR
VERSION:2.0
PRODID:-//wp-events-plugin.com//6.6.4.4//EN
TZID:America/Los_Angeles
X-WR-TIMEZONE:America/Los_Angeles
BEGIN:VEVENT
UID:327@sdfolkheritage.org
DTSTART:20260815T193000Z
DTEND:20260815T213000Z
DTSTAMP:20260318T220410Z
URL:https://sdfolkheritage.org/events/the-paleoverb-project/
SUMMARY:The Paleoverb Project
DESCRIPTION:Jeff Berkley's collection of groundbreaking artists recording a
 lbums at the at Sternberg Museum of of Natural History (Sat. Carlsbad $25)
ATTACH;FMTTYPE=image/jpeg:/wp-content/uploads/2026/03/Paleoverb2.webp
LOCATION:Pilgrim United Church of Christ\, 2020 Chestnut Ave.\, Carlsbad\, 
 CA\, 92008\, United States
GEO:33.162163;-117.326303
X-APPLE-STRUCTURED-LOCATION;VALUE=URI;X-ADDRESS=2020 Chestnut Ave.\, Carlsb
 ad\, CA\, 92008\, United States;X-APPLE-RADIUS=100;X-TITLE=Pilgrim United 
 Church of Christ:geo:33.162163,-117.326303
END:VEVENT
END:VCALENDAR